BEGIN:VCALENDAR
VERSION:2.0
PRODID:-//LUMA-keskus Suomi - ECPv6.15.4//NONSGML v1.0//EN
CALSCALE:GREGORIAN
METHOD:PUBLISH
X-ORIGINAL-URL:https://www.myscience.fi
X-WR-CALDESC:Tapahtumat LUMA-keskus Suomi
REFRESH-INTERVAL;VALUE=DURATION:PT1H
X-Robots-Tag:noindex
X-PUBLISHED-TTL:PT1H
BEGIN:VTIMEZONE
TZID:Europe/Helsinki
BEGIN:DAYLIGHT
TZOFFSETFROM:+0200
TZOFFSETTO:+0300
TZNAME:EEST
DTSTART:20180325T010000
END:DAYLIGHT
BEGIN:STANDARD
TZOFFSETFROM:+0300
TZOFFSETTO:+0200
TZNAME:EET
DTSTART:20181028T010000
END:STANDARD
BEGIN:DAYLIGHT
TZOFFSETFROM:+0200
TZOFFSETTO:+0300
TZNAME:EEST
DTSTART:20190331T010000
END:DAYLIGHT
BEGIN:STANDARD
TZOFFSETFROM:+0300
TZOFFSETTO:+0200
TZNAME:EET
DTSTART:20191027T010000
END:STANDARD
BEGIN:DAYLIGHT
TZOFFSETFROM:+0200
TZOFFSETTO:+0300
TZNAME:EEST
DTSTART:20200329T010000
END:DAYLIGHT
BEGIN:STANDARD
TZOFFSETFROM:+0300
TZOFFSETTO:+0200
TZNAME:EET
DTSTART:20201025T010000
END:STANDARD
BEGIN:DAYLIGHT
TZOFFSETFROM:+0200
TZOFFSETTO:+0300
TZNAME:EEST
DTSTART:20210328T010000
END:DAYLIGHT
BEGIN:STANDARD
TZOFFSETFROM:+0300
TZOFFSETTO:+0200
TZNAME:EET
DTSTART:20211031T010000
END:STANDARD
END:VTIMEZONE
BEGIN:VEVENT
DTSTART;TZID=Europe/Helsinki:20210322T000000
DTEND;TZID=Europe/Helsinki:20210322T235959
DTSTAMP:20260425T204117
CREATED:20180926T072834Z
LAST-MODIFIED:20180926T072834Z
UID:5044-1616371200-1616457599@www.myscience.fi
SUMMARY:Maailman vesipäivä
DESCRIPTION:Vuonna 1992 YK:n yleiskokous julisti maaliskuun 22. päivän maailman vesipäiväksi. Samana vuonna pidettiin Rio de Janeirossa YK:n ympäristö- ja kehityskonferenssi. Vesipäivän tarkoituksena on lisätä tietoa ennenkaikkea vesivarantojen vaikutuksesta taloudelliseen tuottavuuteen ja sosiaaliseen hyvinvointiin. \nToisaalta vesipäivä muistuttaa myös puhtaan veden tärkeydestä\, josta ei välttämättä puhuta tarpeeksi usein länsimaissa. Puhdas juomavesi on jokaisen ihmisen oikeus mutta puhtaan veden yhteydessä on myös puhuttava enemmän sanitaation\, viemäröinnin\, hygieenisten käymälöiden ja yleisen puhtauden merkityksestä osana maailmanlaajuista kehitystä ja hyvinvointia. Kehittämällä sanitaatiota päästään tehokkaammin eroon köyhyydestä\, sairauksista ja vähennetään erityisesti lapsikuolleisuutta. \nYK:n yleiskokouksen julistus\, 22.12.1992\, A/RES/47/193 \nMateriaalia opettajille: Teemapäivän koulutehtävät
URL:https://www.myscience.fi/tapahtuma/maailman-vesipaiva-2021-03-22/
CATEGORIES:Lapsille,Nuorille,Opettajille
END:VEVENT
BEGIN:VEVENT
DTSTART;VALUE=DATE:20190926
DTEND;VALUE=DATE:20191003
DTSTAMP:20260425T204117
CREATED:20180926T133945Z
LAST-MODIFIED:20220516T060454Z
UID:4330-1569456000-1570060799@www.myscience.fi
SUMMARY:Kestävän kehityksen viikko
DESCRIPTION:Euroopan kestävän kehityksen viikko on vuosittainen\, koko Euroopan laajuinen aloite\, joka kannustaa kestävän kehityksen tekoihin\, tapahtumiin ja projekteihin. \nViikkoon voi osallistua suunnittelemalla ja toteuttamalla tapahtuman\, hankkeen tai toimintaa\, joka edistää kestävää kehitystä. Mukaan toivotaan oppilaitoksia\, viranomaisia\, tutkimuslaitoksia\, museoita\, säätiöitä\, järjestöjä\, yrityksiä ja yksityisiä kansalaisia. Mukaan voi rekisteröityä kestävän kehityksen viikon verkkosivuilla. Oman tapahtuman rekisteröiminen lisää tapahtuman näkyvyyttä. \nTeemaviikko on myös erinomainen tilaisuus tehdä oma kestävän kehityksen toimenpidesitoumus\, viestiä jo tehdystä sitoumuksesta sekä haastaa muita tahoja mukaan. Konkreettiset toimenpidesitoumukset luovat kestävää kehitystä arjessa edistäviä käytäntöjä. Sitoumuksen voi antaa esimerkiksi yritys\, järjestö\, koulu\, hallinnon organisaatio tai yksityishenkilö. \nViikosta järjestetään kampanja sosiaalisessa mediassa. Tule mukaan ja someta sitoumuksestasi\, tapahtumastasi tai hankkeestasi aihetunnisteella #ESDW.
URL:https://www.myscience.fi/tapahtuma/kestavan-kehityksen-viikko/
LOCATION:Eurooppa
CATEGORIES:Lapsille,Nuorille,Opettajille
END:VEVENT
BEGIN:VEVENT
DTSTART;TZID=Europe/Helsinki:20190605T080000
DTEND;TZID=Europe/Helsinki:20190605T170000
DTSTAMP:20260425T204117
CREATED:20180926T134221Z
LAST-MODIFIED:20180926T134221Z
UID:4333-1559721600-1559754000@www.myscience.fi
SUMMARY:Maailman ympäristöpäivä
DESCRIPTION:15. joulukuuta 1972 YK:n yleiskokous päätti julistaa 5. kesäkuuta Maailman ympäristöpäiväksi. Päivämäärä muistuttaa Tukholmassa samana vuonna pidetystä YK:n ympäristökokouksesta. Kokouksen tuloksena perustettiin YK:n ympäristöohjelma UNEP. \nYmpäristöpäivän tavoitteena on nostaa esiin muutoksia\, joita ympäristössämme tapahtuu. Erityisen suuria haasteita ilmastonmuutos\, ilmaston lämpeneminen ja kasvihuonepäästöt aiheuttavat kehitysmaissa. Myös arktisilla alueilla ilmastonmuutoksen vaikutukset ovat merkittäviä. Ilmaston lämpeneminen vaikuttaa paitsi kasvi- ja eläinkuntaan myös ihmisten toimeentulomahdollisuuksiin. \nYmpäristöpäivän tehtävät
URL:https://www.myscience.fi/tapahtuma/maailman-ymparistopaiva/
CATEGORIES:Lapsille,Nuorille,Opettajille
END:VEVENT
BEGIN:VEVENT
DTSTART;VALUE=DATE:20190425
DTEND;VALUE=DATE:20190426
DTSTAMP:20260425T204117
CREATED:20180926T073917Z
LAST-MODIFIED:20180926T073917Z
UID:4311-1556150400-1556236799@www.myscience.fi
SUMMARY:DNA-päivä
DESCRIPTION:25. huhtikuuta 1953 James Watson\, Francis Crick\, Maurice Wilkins\, Rosalind Franklin ja kollegoineen julkaisivat Nature-lehdessä DNA:n rakenteen selittävän artikkelin. \nEdelleen samana päivänä vuonna 2003 Human Genome Projectin ilmoitettiin olevan lähes täydellinen. \nMyöhemmin useat tahot ovat julistaneet huhtikuun 25:nnen ”Kansainväliseksi DNA-päiväksi” ja ”Maailman DNA-päiväksi”.
URL:https://www.myscience.fi/tapahtuma/dna-paiva/
CATEGORIES:Lapsille,Nuorille,Opettajille
END:VEVENT
BEGIN:VEVENT
DTSTART;VALUE=DATE:20190322
DTEND;VALUE=DATE:20190323
DTSTAMP:20260425T204117
CREATED:20180926T072834Z
LAST-MODIFIED:20180926T072834Z
UID:4303-1553212800-1553212800@www.myscience.fi
SUMMARY:Maailman vesipäivä
DESCRIPTION:Vuonna 1992 YK:n yleiskokous julisti maaliskuun 22. päivän maailman vesipäiväksi. Samana vuonna pidettiin Rio de Janeirossa YK:n ympäristö- ja kehityskonferenssi. Vesipäivän tarkoituksena on lisätä tietoa ennenkaikkea vesivarantojen vaikutuksesta taloudelliseen tuottavuuteen ja sosiaaliseen hyvinvointiin. \nToisaalta vesipäivä muistuttaa myös puhtaan veden tärkeydestä\, josta ei välttämättä puhuta tarpeeksi usein länsimaissa. Puhdas juomavesi on jokaisen ihmisen oikeus mutta puhtaan veden yhteydessä on myös puhuttava enemmän sanitaation\, viemäröinnin\, hygieenisten käymälöiden ja yleisen puhtauden merkityksestä osana maailmanlaajuista kehitystä ja hyvinvointia. Kehittämällä sanitaatiota päästään tehokkaammin eroon köyhyydestä\, sairauksista ja vähennetään erityisesti lapsikuolleisuutta. \nYK:n yleiskokouksen julistus\, 22.12.1992\, A/RES/47/193 \nMateriaalia opettajille: Teemapäivän koulutehtävät
URL:https://www.myscience.fi/tapahtuma/maailman-vesipaiva/
CATEGORIES:Lapsille,Nuorille,Opettajille
END:VEVENT
BEGIN:VEVENT
DTSTART;VALUE=DATE:20190212
DTEND;VALUE=DATE:20190213
DTSTAMP:20260425T204117
CREATED:20180926T072657Z
LAST-MODIFIED:20180926T072657Z
UID:4299-1549929600-1550015999@www.myscience.fi
SUMMARY:Kansainvälinen Darwin-päivä
DESCRIPTION:Darwin-päivää vietetään vuosittain 12. helmikuuta Charles Darwinin syntymän (12.2.1809) kunniaksi. \nPäivän tarkoituksena on korostaa Darwinin panosta tieteeseen ja edistää yleisesti tiedettä. \n 
URL:https://www.myscience.fi/tapahtuma/kansainvalinen-darwin-paiva/
CATEGORIES:Lapsille,Nuorille,Opettajille
END:VEVENT
BEGIN:VEVENT
DTSTART;VALUE=DATE:20190211
DTEND;VALUE=DATE:20190212
DTSTAMP:20260425T204117
CREATED:20180926T071908Z
LAST-MODIFIED:20180926T071908Z
UID:4296-1549843200-1549929599@www.myscience.fi
SUMMARY:Kansainvälinen päivä naisille ja tytöille tieteen ja teknologian parissa
DESCRIPTION:Yhdistyneiden kansakuntien yleiskokous hyväksyi 22.12.2015 päätöslauselman vuosittaisen kansainvälisen päivän perustamisesta\, jolla tunnustetaan naisten ja tyttöjen kriittinen rooli tiede- ja teknologiayhteisöissä. \nYhdistyneiden kansakuntien kasvatus-\, tiede- ja kulttuurijärjestö (UNESCO)\, Yhdistyneiden kansakuntien tasa-arvojärjestö (UN Women)\, Kansainvälisen televiestintäliitto (ITU) ja muita järjestöjä\, jotka tukevat ja edistävät naisten ja tyttöjen pääsyä ja heidän osallistumistaan LUMA-alojen opetukseen\, koulutukseen ja tutkimustoimintaan kaikilla tasoilla\, päättivät julistaa helmikuun 11. päivän naisille ja tytöille tieteen ja teknologian parissa.
URL:https://www.myscience.fi/tapahtuma/kansainvalinen-paiva-naisille-ja-tytoille-tieteen-ja-teknologian-parissa/
CATEGORIES:Nuorille,Opettajille
END:VEVENT
BEGIN:VEVENT
DTSTART;VALUE=DATE:20181023
DTEND;VALUE=DATE:20181024
DTSTAMP:20260425T204117
CREATED:20180926T071028Z
LAST-MODIFIED:20180926T071210Z
UID:4288-1540252800-1540339199@www.myscience.fi
SUMMARY:Moolipäivä
DESCRIPTION:
URL:https://www.myscience.fi/tapahtuma/moolipaiva/
CATEGORIES:Opettajille
END:VEVENT
BEGIN:VEVENT
DTSTART;VALUE=DATE:20180516
DTEND;VALUE=DATE:20180517
DTSTAMP:20260425T204117
CREATED:20180328T085703Z
LAST-MODIFIED:20180926T133144Z
UID:2897-1526428800-1526515199@www.myscience.fi
SUMMARY:Kansainvälinen valon päivä
DESCRIPTION:Kansainvälinen valon päivä asetettiin Unescon yleiskokouksessa marraskuussa 2017\, ja on keväästä 2018 lähtien vietetty vuosittain 16. toukokuuta.  Valon päivä on myös jatkoa vuonna 2015 vietetylle kansainväliselle valon vuodelle. \nTeemapäivän laaja aihe\, valo\, mahdollistaa monien eri yhteiskunnan sektoreiden maailmanlaajuisen osallistumisen toimintaan\, joka osoittaa\, miten tiede\, teknologia\, taide ja kulttuuri voivat auttaa saavuttamaan Unescon tavoitteita – koulutusta\, tasa-arvoa ja rauhaa. \nLUMA-keskus Suomi on mukana kannustamassa kaikkia kansainvälisen teemapäivän viettoon.
URL:https://www.myscience.fi/tapahtuma/kansainvalinen-valon-paiva/
CATEGORIES:Lapsille,Nuorille,Opettajille
END:VEVENT
END:VCALENDAR